BEGIN:VCALENDAR
VERSION:2.0
PRODID:-//pretix//SK_Vidar_Tickets//
BEGIN:VEVENT
UID:pretix-SKV-julebord25-0@tickets.skvidar.run
DTSTART;VALUE=DATE:20251129
DTEND;VALUE=DATE:20251130
DESCRIPTION:Tickets: https://tickets.skvidar.run/SKV/julebord25/\nOrganizer
 : SK Vidar
DTSTAMP:20260420T132021Z
LOCATION:Bislett Stadion
SUMMARY:Julebord 2025
END:VEVENT
END:VCALENDAR
